BEGIN:VCALENDAR
VERSION:2.0
PRODID:-//Winterthur Museum, Garden &amp; Library - ECPv5.14.1//NONSGML v1.0//EN
CALSCALE:GREGORIAN
METHOD:PUBLISH
X-WR-CALNAME:Winterthur Museum, Garden &amp; Library
X-ORIGINAL-URL:https://www.winterthur.org
X-WR-CALDESC:Events for Winterthur Museum, Garden &amp; Library
REFRESH-INTERVAL;VALUE=DURATION:PT1H
X-Robots-Tag:noindex
X-PUBLISHED-TTL:PT1H
BEGIN:VTIMEZONE
TZID:America/New_York
BEGIN:DAYLIGHT
TZOFFSETFROM:-0500
TZOFFSETTO:-0400
TZNAME:EDT
DTSTART:20230312T070000
END:DAYLIGHT
BEGIN:STANDARD
TZOFFSETFROM:-0400
TZOFFSETTO:-0500
TZNAME:EST
DTSTART:20231105T060000
END:STANDARD
END:VTIMEZONE
BEGIN:VEVENT
DTSTART;TZID=America/New_York:20230611T143000
DTEND;TZID=America/New_York:20230611T160000
DTSTAMP:20260422T034646
CREATED:20230519T115126Z
LAST-MODIFIED:20231012T145242Z
UID:41257-1686493800-1686499200@www.winterthur.org
SUMMARY:Tailgate Tour: Focus on Ferns
DESCRIPTION:Explore the estate on a leisurely guided stroll guided by one of our expert staff\, who will share information about Winterthur’s history\, garden design\, and plants. Linger at a scenic tailgate spot for hors d’oeuvres along with a selection of hard and soft beverages.  \nEvent cancelled. \nJoin us for a Walk Through Winterthur’s Waterways Tailgate Tour\, August 10
URL:https://www.winterthur.org/calendar/tailgate-tour-ferns/
CATEGORIES:Garden,Member
ATTACH;FMTTYPE=image/jpeg:https://www.winterthur.org/wp-content/uploads/2019/09/Upcoming-Tailgate-tour.jpg
END:VEVENT
END:VCALENDAR