BEGIN:VCALENDAR
VERSION:2.0
PRODID:-//Winterthur Museum, Garden &amp; Library - ECPv5.14.1//NONSGML v1.0//EN
CALSCALE:GREGORIAN
METHOD:PUBLISH
X-WR-CALNAME:Winterthur Museum, Garden &amp; Library
X-ORIGINAL-URL:https://www.winterthur.org
X-WR-CALDESC:Events for Winterthur Museum, Garden &amp; Library
REFRESH-INTERVAL;VALUE=DURATION:PT1H
X-Robots-Tag:noindex
X-PUBLISHED-TTL:PT1H
BEGIN:VTIMEZONE
TZID:America/New_York
BEGIN:DAYLIGHT
TZOFFSETFROM:-0500
TZOFFSETTO:-0400
TZNAME:EDT
DTSTART:20230312T070000
END:DAYLIGHT
BEGIN:STANDARD
TZOFFSETFROM:-0400
TZOFFSETTO:-0500
TZNAME:EST
DTSTART:20231105T060000
END:STANDARD
END:VTIMEZONE
BEGIN:VEVENT
DTSTART;TZID=America/New_York:20230318T100000
DTEND;TZID=America/New_York:20230318T130000
DTSTAMP:20260421T082643
CREATED:20230214T205236Z
LAST-MODIFIED:20240220T192635Z
UID:40058-1679133600-1679144400@www.winterthur.org
SUMMARY:Mottahedeh Presents: Four Table Settings to Inspire Your Next Dinner Party
DESCRIPTION:Stop by the Museum Store to see the art of table design as shown by Mottahedeh & Co.  See four table settings to inspire your next dinner party and talk with Wendy Kvalheim\, Mottahedeh CEO\, and Paul J Wojcik\, Mottahedeh CVO\, about how to evoke style and sophistication in your dining room. Demonstrations will take place from 10:00 am-1:00 pm and 2:00 pm-4:00 pm. Included with general admission.    \nPurchase General Admission tickets. \nJoin us for other House of Style events: \nIntroduction to Calligraphy with Maiden September \nBehind-the-Scenes Open House of Winterthur’s Ceramic & Glass Study \nRiedel Sensory Workshop
URL:https://www.winterthur.org/calendar/mottahedeh-presents-four-table-settings-to-inspire-your-next-dinner-party/2023-03-18/
CATEGORIES:Member,Program
ATTACH;FMTTYPE=image/jpeg:https://www.winterthur.org/wp-content/uploads/42edb0b4-8fe8-43ed-a2ac-df98e6bbdffb.jpg
END:VEVENT
END:VCALENDAR