BEGIN:VCALENDAR
VERSION:2.0
PRODID:-//Winterthur Museum, Garden &amp; Library - ECPv5.14.1//NONSGML v1.0//EN
CALSCALE:GREGORIAN
METHOD:PUBLISH
X-WR-CALNAME:Winterthur Museum, Garden &amp; Library
X-ORIGINAL-URL:https://www.winterthur.org
X-WR-CALDESC:Events for Winterthur Museum, Garden &amp; Library
REFRESH-INTERVAL;VALUE=DURATION:PT1H
X-Robots-Tag:noindex
X-PUBLISHED-TTL:PT1H
BEGIN:VTIMEZONE
TZID:America/New_York
BEGIN:DAYLIGHT
TZOFFSETFROM:-0500
TZOFFSETTO:-0400
TZNAME:EDT
DTSTART:20240310T070000
END:DAYLIGHT
BEGIN:STANDARD
TZOFFSETFROM:-0400
TZOFFSETTO:-0500
TZNAME:EST
DTSTART:20241103T060000
END:STANDARD
END:VTIMEZONE
BEGIN:VEVENT
DTSTART;TZID=America/New_York:20241204T173000
DTEND;TZID=America/New_York:20241204T183000
DTSTAMP:20260424T072657
CREATED:20241003T174024Z
LAST-MODIFIED:20250918T165550Z
UID:50979-1733333400-1733337000@www.winterthur.org
SUMMARY:Handmade Soap Making Workshop
DESCRIPTION:Discover the art of  soapmaking and create stunning soaps that resemble little gifts in this workshop with Miche Scott. You’ll learn to mix\, pour\, and  shape your soaps into beautifully wrapped designs\, complete with delicate bows and intricate  details. $75. Ticket includes all materials to create eight gift-shaped soaps to take home\, one soap to enjoy immediately\, and admission to Wonderful Wednesday.  \nSold out.
URL:https://www.winterthur.org/calendar/handmade-soap-making-workshop-2/
CATEGORIES:Workshop,Yuletide
ATTACH;FMTTYPE=image/jpeg:https://www.winterthur.org/wp-content/uploads/Miche_Scott.jpg
END:VEVENT
END:VCALENDAR