BEGIN:VCALENDAR
VERSION:2.0
PRODID:-//Winterthur Museum, Garden &amp; Library - ECPv5.14.1//NONSGML v1.0//EN
CALSCALE:GREGORIAN
METHOD:PUBLISH
X-WR-CALNAME:Winterthur Museum, Garden &amp; Library
X-ORIGINAL-URL:https://www.winterthur.org
X-WR-CALDESC:Events for Winterthur Museum, Garden &amp; Library
REFRESH-INTERVAL;VALUE=DURATION:PT1H
X-Robots-Tag:noindex
X-PUBLISHED-TTL:PT1H
BEGIN:VTIMEZONE
TZID:America/New_York
BEGIN:DAYLIGHT
TZOFFSETFROM:-0500
TZOFFSETTO:-0400
TZNAME:EDT
DTSTART:20260308T070000
END:DAYLIGHT
BEGIN:STANDARD
TZOFFSETFROM:-0400
TZOFFSETTO:-0500
TZNAME:EST
DTSTART:20261101T060000
END:STANDARD
END:VTIMEZONE
BEGIN:VEVENT
DTSTART;TZID=America/New_York:20261217T163000
DTEND;TZID=America/New_York:20261217T200000
DTSTAMP:20260422T090216
CREATED:20251211T200748Z
LAST-MODIFIED:20260415T134621Z
UID:59752-1797525000-1797537600@www.winterthur.org
SUMMARY:Garden to Vase: Holiday Centerpiece
DESCRIPTION:Take a special Yuletide Tour with the floral designers and gain insider tips from those who helped create the decorations. Afterward\, create a long-lasting centerpiece for your holiday table. Registration required by December 7. $90. $80 for Members.  \nSold out. \nPhoto by Holden Barnes.
URL:https://www.winterthur.org/calendar/garden-to-vase-holiday-centerpiece/
CATEGORIES:Floral Design,Garden,Workshop
ATTACH;FMTTYPE=image/jpeg:https://www.winterthur.org/wp-content/uploads/HE_03062-scaled.jpg
END:VEVENT
END:VCALENDAR