BEGIN:VCALENDAR
VERSION:2.0
PRODID:-//Winterthur Museum, Garden &amp; Library - ECPv5.14.1//NONSGML v1.0//EN
CALSCALE:GREGORIAN
METHOD:PUBLISH
X-WR-CALNAME:Winterthur Museum, Garden &amp; Library
X-ORIGINAL-URL:https://www.winterthur.org
X-WR-CALDESC:Events for Winterthur Museum, Garden &amp; Library
REFRESH-INTERVAL;VALUE=DURATION:PT1H
X-Robots-Tag:noindex
X-PUBLISHED-TTL:PT1H
BEGIN:VTIMEZONE
TZID:America/New_York
BEGIN:DAYLIGHT
TZOFFSETFROM:-0500
TZOFFSETTO:-0400
TZNAME:EDT
DTSTART:20230312T070000
END:DAYLIGHT
BEGIN:STANDARD
TZOFFSETFROM:-0400
TZOFFSETTO:-0500
TZNAME:EST
DTSTART:20231105T060000
END:STANDARD
END:VTIMEZONE
BEGIN:VEVENT
DTSTART;TZID=America/New_York:20231015T090000
DTEND;TZID=America/New_York:20231015T120000
DTSTAMP:20260422T081455
CREATED:20230817T174427Z
LAST-MODIFIED:20240220T163716Z
UID:42518-1697360400-1697371200@www.winterthur.org
SUMMARY:Forest Therapy
DESCRIPTION:Inspired by the Japanese art of forest bathing (shinrin yoku)\, forest therapy helps us understand how mindful time in nature can increase a sense of calm\, clarity\, and connection to our true selves and to nature. This guided garden walk is for guests 15 and older who are comfortable experiencing nature through the senses. Registration required; limited to 18. $27; $15 for Members.  \nSold out. \nJoin us for Forest Therapy on November 5. 
URL:https://www.winterthur.org/calendar/forest-therapy-7/
CATEGORIES:Activity,Garden
ATTACH;FMTTYPE=image/jpeg:https://www.winterthur.org/wp-content/uploads/garden_11-2018-leitch-015-2.jpg
END:VEVENT
END:VCALENDAR