BEGIN:VCALENDAR
VERSION:2.0
PRODID:-//Winterthur Museum, Garden &amp; Library - ECPv5.14.1//NONSGML v1.0//EN
CALSCALE:GREGORIAN
METHOD:PUBLISH
X-WR-CALNAME:Winterthur Museum, Garden &amp; Library
X-ORIGINAL-URL:https://www.winterthur.org
X-WR-CALDESC:Events for Winterthur Museum, Garden &amp; Library
REFRESH-INTERVAL;VALUE=DURATION:PT1H
X-Robots-Tag:noindex
X-PUBLISHED-TTL:PT1H
BEGIN:VTIMEZONE
TZID:America/New_York
BEGIN:DAYLIGHT
TZOFFSETFROM:-0500
TZOFFSETTO:-0400
TZNAME:EDT
DTSTART:20230312T070000
END:DAYLIGHT
BEGIN:STANDARD
TZOFFSETFROM:-0400
TZOFFSETTO:-0500
TZNAME:EST
DTSTART:20231105T060000
END:STANDARD
END:VTIMEZONE
BEGIN:VEVENT
DTSTART;TZID=America/New_York:20230909T130000
DTEND;TZID=America/New_York:20230909T143000
DTSTAMP:20260422T064241
CREATED:20230807T121326Z
LAST-MODIFIED:20231214T175010Z
UID:42486-1694264400-1694269800@www.winterthur.org
SUMMARY:Director's Garden Walk: Marian Coffin\, Landscape Architect
DESCRIPTION:Marian Coffin\, Landscape Architect \nJoin Chris Strand\, director of Winterthur\, on a special walk highlighting interesting and seldom seen parts of the landscape. Included with admission. Members free. Meet at the Visitor Center patio. Walks start promptly at scheduled time and take place on the second Saturday of the month\, year-round. \nRegister now. \nJoin us for other Director’s Garden Walks on October 14\, November 11\, December 9.
URL:https://www.winterthur.org/calendar/directors-garden-walk-8/
CATEGORIES:Activity,Garden
ATTACH;FMTTYPE=image/jpeg:https://www.winterthur.org/wp-content/uploads/dsc_2475-scaled.jpg
END:VEVENT
END:VCALENDAR