BEGIN:VCALENDAR
VERSION:2.0
PRODID:-//Winterthur Museum, Garden &amp; Library - ECPv5.14.1//NONSGML v1.0//EN
CALSCALE:GREGORIAN
METHOD:PUBLISH
X-WR-CALNAME:Winterthur Museum, Garden &amp; Library
X-ORIGINAL-URL:https://www.winterthur.org
X-WR-CALDESC:Events for Winterthur Museum, Garden &amp; Library
REFRESH-INTERVAL;VALUE=DURATION:PT1H
X-Robots-Tag:noindex
X-PUBLISHED-TTL:PT1H
BEGIN:VTIMEZONE
TZID:America/New_York
BEGIN:DAYLIGHT
TZOFFSETFROM:-0500
TZOFFSETTO:-0400
TZNAME:EDT
DTSTART:20230312T070000
END:DAYLIGHT
BEGIN:STANDARD
TZOFFSETFROM:-0400
TZOFFSETTO:-0500
TZNAME:EST
DTSTART:20231105T060000
END:STANDARD
END:VTIMEZONE
BEGIN:VEVENT
DTSTART;TZID=America/New_York:20231019T130000
DTEND;TZID=America/New_York:20231019T160000
DTSTAMP:20260424T055511
CREATED:20230807T145610Z
LAST-MODIFIED:20240123T182222Z
UID:42525-1697720400-1697731200@www.winterthur.org
SUMMARY:Conservation Clinic
DESCRIPTION:Bring your objects into this free clinic and Winterthur/University of Delaware Program in Art Conservation faculty and students will consult on the condition\, care\, and possible treatment of them. Paintings\, textiles\, works of art on paper\, books and archival documents\, photographic materials\, furniture\, and decorative\, archaeological\, and ethnographic objects are welcome. Free. By appointment only. Call 800.448.3883 to make an appointment. Limit three objects per 30-minute appointment. No monetary appraisals given. 
URL:https://www.winterthur.org/calendar/conservation-clinic-7/
CATEGORIES:Member,Misc.,Museum
ATTACH;FMTTYPE=image/jpeg:https://www.winterthur.org/wp-content/uploads/conservation-staff-working-on-mannequins_2.jpg
END:VEVENT
END:VCALENDAR