BEGIN:VCALENDAR
VERSION:2.0
PRODID:-//Winterthur Museum, Garden &amp; Library - ECPv5.14.1//NONSGML v1.0//EN
CALSCALE:GREGORIAN
METHOD:PUBLISH
X-WR-CALNAME:Winterthur Museum, Garden &amp; Library
X-ORIGINAL-URL:https://www.winterthur.org
X-WR-CALDESC:Events for Winterthur Museum, Garden &amp; Library
REFRESH-INTERVAL;VALUE=DURATION:PT1H
X-Robots-Tag:noindex
X-PUBLISHED-TTL:PT1H
BEGIN:VTIMEZONE
TZID:America/New_York
BEGIN:DAYLIGHT
TZOFFSETFROM:-0500
TZOFFSETTO:-0400
TZNAME:EDT
DTSTART:20250309T070000
END:DAYLIGHT
BEGIN:STANDARD
TZOFFSETFROM:-0400
TZOFFSETTO:-0500
TZNAME:EST
DTSTART:20251102T060000
END:STANDARD
END:VTIMEZONE
BEGIN:VEVENT
DTSTART;TZID=America/New_York:20251210T130000
DTEND;TZID=America/New_York:20251210T143000
DTSTAMP:20260424T184203
CREATED:20251008T180344Z
LAST-MODIFIED:20260130T141235Z
UID:58555-1765371600-1765377000@www.winterthur.org
SUMMARY:A Christmas Carol Live!
DESCRIPTION:Join us for this captivating rendition of the timeless holiday classic as performed by Gerald Charles Dickens\, the great-great-grandson of literary master Charles Dickens. During his energetic one-man show\, Gerald brings the story to life\, depicting 26 characters of the classic tale\, with only a table\, wing chair\, and hat rack with him on stage. Make your visit more special with a Yuletide tour. Advance tickets recommended. This event has reserved seating. Choose your seat(s) when purchasing your tickets. Performance-only tickets: $32–36; child\, $15–29; Members\, $27–31 Member child\, $15–19. Yuletide tour additional $10 per person.  \nReserve now. \nOther performances: \n\n	December 11\, 1:00-2:30 pm\n	December 11\, 6:00–7:30 pm
URL:https://www.winterthur.org/calendar/a-christmas-carol-live-8/
CATEGORIES:Entertainment,Shows,Yuletide
ATTACH;FMTTYPE=image/jpeg:https://www.winterthur.org/wp-content/uploads/Gerald_Dickens_Copyright_Ian_Dickens-scaled.jpg
END:VEVENT
BEGIN:VEVENT
DTSTART;TZID=America/New_York:20251211T130000
DTEND;TZID=America/New_York:20251211T143000
DTSTAMP:20260424T184203
CREATED:20251008T180600Z
LAST-MODIFIED:20260130T141302Z
UID:58557-1765458000-1765463400@www.winterthur.org
SUMMARY:A Christmas Carol Live!
DESCRIPTION:Join us for this captivating rendition of the timeless holiday classic as performed by Gerald Charles Dickens\, the great-great-grandson of literary master Charles Dickens. During his energetic one-man show\, Gerald brings the story to life\, depicting 26 characters of the classic tale\, with only a table\, wing chair\, and hat rack with him on stage. Make your visit more special with a Yuletide tour. Advance tickets recommended. This event has reserved seating. Choose your seat(s) when purchasing your tickets. Performance-only tickets: $32–36; child\, $15–29; Members\, $27–31 Member child\, $15–19. Yuletide tour additional $10 per person.  \nRegister for December 11\, 1:00 pm performance. \nOther performances: \n\n	December 10\, 1:00-2:30 pm\n	December 11\, 6:00–7:30 pm
URL:https://www.winterthur.org/calendar/a-christmas-carol-live-10/
CATEGORIES:Entertainment,Shows,Yuletide
ATTACH;FMTTYPE=image/jpeg:https://www.winterthur.org/wp-content/uploads/Gerald_Dickens_Copyright_Ian_Dickens-scaled.jpg
END:VEVENT
BEGIN:VEVENT
DTSTART;TZID=America/New_York:20251211T180000
DTEND;TZID=America/New_York:20251211T193000
DTSTAMP:20260424T184203
CREATED:20251008T180504Z
LAST-MODIFIED:20260130T141331Z
UID:58559-1765476000-1765481400@www.winterthur.org
SUMMARY:A Christmas Carol Live!
DESCRIPTION:Join us for this captivating rendition of the timeless holiday classic as performed by Gerald Charles Dickens\, the great-great-grandson of literary master Charles Dickens. During his energetic one-man show\, Gerald brings the story to life\, depicting 26 characters of the classic tale\, with only a table\, wing chair\, and hat rack with him on stage. Make your visit more special with a Yuletide tour. Advance tickets recommended. This event has reserved seating. Choose your seat(s) when purchasing your tickets. Performance-only tickets: $32–36; child\, $15–29; Members\, $27–31 Member child\, $15–19. Yuletide tour additional $10 per person.  \nRegister for December 11\, 6:00 pm performance. \nOther performances: \n\n	December 10\, 1:00-2:30 pm\n	December 11\, 1:00–2:30 pm
URL:https://www.winterthur.org/calendar/a-christmas-carol-live-9/
CATEGORIES:Entertainment,Shows,Yuletide
ATTACH;FMTTYPE=image/jpeg:https://www.winterthur.org/wp-content/uploads/Gerald_Dickens_Copyright_Ian_Dickens-scaled.jpg
END:VEVENT
BEGIN:VEVENT
DTSTART;TZID=America/New_York:20251220T180000
DTEND;TZID=America/New_York:20251220T190000
DTSTAMP:20260424T184203
CREATED:20251008T195937Z
LAST-MODIFIED:20251105T145658Z
UID:58553-1766253600-1766257200@www.winterthur.org
SUMMARY:OperaDelaware Holiday Candlelight Concert
DESCRIPTION:Experience an unforgettable evening of music\, nostalgia\, and community. Surrounded by the warm glow of hundreds of flickering candles\, OperaDelaware’s talented vocalists will sing holiday classics like “O Holy Night” and “White Christmas\,” along with standards like “Strangers in the Night” and “Some Enchanted Evening” and some of opera’s most beloved songs like “Nessun dorma” and “O mio babbino caro.” Advance tickets recommended. This event has reserved seating. Choose your seat(s) when purchasing your tickets. $36–38; child\, $10-12; Members\, $32–34; Member child\, $10–12.  \nRegister now.
URL:https://www.winterthur.org/calendar/operadelaware-holiday-candlelight-concert-2/
CATEGORIES:Entertainment,Kids & Families,Shows,Yuletide
ATTACH;FMTTYPE=image/jpeg:https://www.winterthur.org/wp-content/uploads/2023.03.22_OperaBalt_LaTraviata-262_PCJoe-del-Tufo-at-Moonloop-Photography-scaled.jpg
END:VEVENT
END:VCALENDAR