BEGIN:VCALENDAR
VERSION:2.0
PRODID:-//Winterthur Museum, Garden &amp; Library - ECPv5.14.1//NONSGML v1.0//EN
CALSCALE:GREGORIAN
METHOD:PUBLISH
X-WR-CALNAME:Winterthur Museum, Garden &amp; Library
X-ORIGINAL-URL:https://www.winterthur.org
X-WR-CALDESC:Events for Winterthur Museum, Garden &amp; Library
REFRESH-INTERVAL;VALUE=DURATION:PT1H
X-Robots-Tag:noindex
X-PUBLISHED-TTL:PT1H
BEGIN:VTIMEZONE
TZID:America/New_York
BEGIN:DAYLIGHT
TZOFFSETFROM:-0500
TZOFFSETTO:-0400
TZNAME:EDT
DTSTART:20250309T070000
END:DAYLIGHT
BEGIN:STANDARD
TZOFFSETFROM:-0400
TZOFFSETTO:-0500
TZNAME:EST
DTSTART:20251102T060000
END:STANDARD
END:VTIMEZONE
BEGIN:VEVENT
DTSTART;TZID=America/New_York:20251106T180000
DTEND;TZID=America/New_York:20251106T210000
DTSTAMP:20260424T200908
CREATED:20251028T135150Z
LAST-MODIFIED:20251028T135150Z
UID:59066-1762452000-1762462800@www.winterthur.org
SUMMARY:Opening Night Party—Delaware Antiques Show
DESCRIPTION:Thursday\, November 6 | 6:00–9:00 pm\nOne of the most acclaimed antiques shows highlighting the best of Americana for 60 years! Don’t miss the finest offerings from more than 60 distinguished dealers at this spectacular showcase of art\, antiques\, and design. \nCelebrate the opening of the show with cocktails\, hors d’œuvres and exclusive early shopping. \nSponsor: $250 per person\, includes admission at 5:00 p.m.\nPatron: $175 per person\, include admission at 6:00 p.m.\nYoung Collector: $150 per person\, includes admission at 6:00 p.m. \nRegister now. \nChase Center on the Riverfront\, Wilmington\, Delaware \nOpening Night Party tickets include entry to all three days of the show at the Chase Center on the Riverfront and to Winterthur\, Museum\, Garden & Library during the show dates. \n \nPresenting Sponsor\n\n \n\n\n\n\n \nSupporting Sponsors\n\n \n\n\n\n\n \n\n\n \n\n\n\n 
URL:https://www.winterthur.org/calendar/opening-night-party-delaware-antiques-show-4/
CATEGORIES:Activity,Entertainment,Shows
ATTACH;FMTTYPE=image/jpeg:https://www.winterthur.org/wp-content/uploads/DAS_2024_006-scaled.jpg
END:VEVENT
BEGIN:VEVENT
DTSTART;TZID=America/New_York:20251107T110000
DTEND;TZID=America/New_York:20251107T180000
DTSTAMP:20260424T200908
CREATED:20250115T205435Z
LAST-MODIFIED:20250115T214347Z
UID:52159-1762513200-1762538400@www.winterthur.org
SUMMARY:Delaware Antiques Show
DESCRIPTION:A Winterthur Tradition | November 7-9\, 2025\nOne of the nation’s most highly acclaimed antiques shows presents a spectacular showcase of art\, antiques\, and design! Featuring the finest offerings from more than sixty distinguished dealers\, the Delaware Antiques Show highlights the best of American antiques and decorative arts. Join us for a full schedule of exciting show features sure to captivate the sophisticated and new collector alike.
URL:https://www.winterthur.org/calendar/delaware-antiques-show-2/2025-11-07/
CATEGORIES:Shows
ATTACH;FMTTYPE=image/jpeg:https://www.winterthur.org/wp-content/uploads/Winterthur_DAS_2023_005_12_2023.jpg
END:VEVENT
BEGIN:VEVENT
DTSTART;TZID=America/New_York:20251108T110000
DTEND;TZID=America/New_York:20251108T180000
DTSTAMP:20260424T200908
CREATED:20250115T205435Z
LAST-MODIFIED:20250115T214348Z
UID:52177-1762599600-1762624800@www.winterthur.org
SUMMARY:Delaware Antiques Show
DESCRIPTION:A Winterthur Tradition | November 7-9\, 2025\nOne of the nation’s most highly acclaimed antiques shows presents a spectacular showcase of art\, antiques\, and design! Featuring the finest offerings from more than sixty distinguished dealers\, the Delaware Antiques Show highlights the best of American antiques and decorative arts. Join us for a full schedule of exciting show features sure to captivate the sophisticated and new collector alike.
URL:https://www.winterthur.org/calendar/delaware-antiques-show-2/2025-11-08/
CATEGORIES:Shows
ATTACH;FMTTYPE=image/jpeg:https://www.winterthur.org/wp-content/uploads/Winterthur_DAS_2023_005_12_2023.jpg
END:VEVENT
BEGIN:VEVENT
DTSTART;TZID=America/New_York:20251109T110000
DTEND;TZID=America/New_York:20251109T170000
DTSTAMP:20260424T200908
CREATED:20250115T205435Z
LAST-MODIFIED:20250115T214349Z
UID:52181-1762686000-1762707600@www.winterthur.org
SUMMARY:Delaware Antiques Show
DESCRIPTION:A Winterthur Tradition | November 7-9\, 2025\nOne of the nation’s most highly acclaimed antiques shows presents a spectacular showcase of art\, antiques\, and design! Featuring the finest offerings from more than sixty distinguished dealers\, the Delaware Antiques Show highlights the best of American antiques and decorative arts. Join us for a full schedule of exciting show features sure to captivate the sophisticated and new collector alike.
URL:https://www.winterthur.org/calendar/delaware-antiques-show-2/2025-11-09/
CATEGORIES:Shows
ATTACH;FMTTYPE=image/jpeg:https://www.winterthur.org/wp-content/uploads/Winterthur_DAS_2023_005_12_2023.jpg
END:VEVENT
END:VCALENDAR