BEGIN:VCALENDAR
VERSION:2.0
PRODID:-//Winterthur Museum, Garden &amp; Library - ECPv5.14.1//NONSGML v1.0//EN
CALSCALE:GREGORIAN
METHOD:PUBLISH
X-WR-CALNAME:Winterthur Museum, Garden &amp; Library
X-ORIGINAL-URL:https://www.winterthur.org
X-WR-CALDESC:Events for Winterthur Museum, Garden &amp; Library
REFRESH-INTERVAL;VALUE=DURATION:PT1H
X-Robots-Tag:noindex
X-PUBLISHED-TTL:PT1H
BEGIN:VTIMEZONE
TZID:America/New_York
BEGIN:DAYLIGHT
TZOFFSETFROM:-0500
TZOFFSETTO:-0400
TZNAME:EDT
DTSTART:20240310T070000
END:DAYLIGHT
BEGIN:STANDARD
TZOFFSETFROM:-0400
TZOFFSETTO:-0500
TZNAME:EST
DTSTART:20241103T060000
END:STANDARD
END:VTIMEZONE
BEGIN:VEVENT
DTSTART;TZID=America/New_York:20241211T130000
DTEND;TZID=America/New_York:20241211T143000
DTSTAMP:20260425T142133
CREATED:20240614T151640Z
LAST-MODIFIED:20250603T133751Z
UID:47942-1733922000-1733927400@www.winterthur.org
SUMMARY:A Christmas Carol Live!
DESCRIPTION:Join us for this captivating rendition of the timeless holiday classic as performed by Gerald Charles Dickens\, a great-great-grandson of literary master Charles Dickens. During his energetic one-man show\, Gerald brings the story to life\, depicting 26 characters of the classic tale\, with only a table\, wing chair\, and hat rack with him on stage. Make your visit more special with a Yuletide tour. Advance tickets recommended. Performance only: $30; $25 for Members; $15\, children under 12. Performance and general admission: $40; $25 for Members; $20\, children under 12. \n1:00 pm performance on December 11 is sold out. \nOther performances: \n\n	December 12\, 1-2:30 pm\n	December 12\, 6-7:30 pm
URL:https://www.winterthur.org/calendar/a-christmas-carol-live-5/
CATEGORIES:Entertainment,Shows,Yuletide
ATTACH;FMTTYPE=image/jpeg:https://www.winterthur.org/wp-content/uploads/Gerald_Dickens_Copyright_Ian_Dickens-scaled.jpg
END:VEVENT
BEGIN:VEVENT
DTSTART;TZID=America/New_York:20241212T130000
DTEND;TZID=America/New_York:20241212T143000
DTSTAMP:20260425T142133
CREATED:20240614T151808Z
LAST-MODIFIED:20250603T133816Z
UID:47944-1734008400-1734013800@www.winterthur.org
SUMMARY:A Christmas Carol Live!
DESCRIPTION:Join us for this captivating rendition of the timeless holiday classic as performed by Gerald Charles Dickens\, a great-great-grandson of literary master Charles Dickens. During his energetic one-man show\, Gerald brings the story to life\, depicting 26 characters of the classic tale\, with only a table\, wing chair\, and hat rack with him on stage. Make your visit more special with a Yuletide tour. Advance tickets recommended. Performance only: $30; $25 for Members; $15\, children under 12. Performance and general admission: $40; $25 for Members; $20\, children under 12. \nRegister for December 12\, 1:00 pm performance. \nOther performances: \n\n	December 11\, 1-2:30 pm\n	December 12\, 6-7:30 pm
URL:https://www.winterthur.org/calendar/a-christmas-carol-live-6/
CATEGORIES:Entertainment,Shows,Yuletide
ATTACH;FMTTYPE=image/jpeg:https://www.winterthur.org/wp-content/uploads/Gerald_Dickens_Copyright_Ian_Dickens-scaled.jpg
END:VEVENT
BEGIN:VEVENT
DTSTART;TZID=America/New_York:20241212T180000
DTEND;TZID=America/New_York:20241212T193000
DTSTAMP:20260425T142133
CREATED:20240614T153054Z
LAST-MODIFIED:20250603T133902Z
UID:47948-1734026400-1734031800@www.winterthur.org
SUMMARY:A Christmas Carol Live!
DESCRIPTION:Join us for this captivating rendition of the timeless holiday classic as performed by Gerald Charles Dickens\, the great-great-grandson of literary master Charles Dickens. During his energetic one-man show\, Gerald brings the story to life\, depicting 26 characters of the classic tale\, with only a table\, wing chair\, and hat rack with him on stage. Make your visit more special with a Yuletide tour. Advance tickets recommended. Performance only: $30; $25 for Members; $15\, children under 12. Performance and general admission: $40; $25 for Members; $20\, children under 12. \nRegister for December 12\, 6:00 pm performance. \nOther performances: \n\n	December 11\, 1-2:30 pm\n	December 12\, 1-2:30 pm
URL:https://www.winterthur.org/calendar/a-christmas-carol-live-7/
CATEGORIES:Entertainment,Shows,Yuletide
ATTACH;FMTTYPE=image/jpeg:https://www.winterthur.org/wp-content/uploads/Gerald_Dickens_Copyright_Ian_Dickens-scaled.jpg
END:VEVENT
BEGIN:VEVENT
DTSTART;TZID=America/New_York:20241214T180000
DTEND;TZID=America/New_York:20241214T190000
DTSTAMP:20260425T142133
CREATED:20241003T184745Z
LAST-MODIFIED:20250930T162411Z
UID:51028-1734199200-1734202800@www.winterthur.org
SUMMARY:OperaDelaware Holiday Candlelight Concert
DESCRIPTION:Enjoy a magical holiday performance. Surrounded by hundreds of candles\, OperaDelaware will perform seasonal classics and popular standards. $35; $30 for Members. $15 for students; $10 for children 12 and under; free for children 3 and under. Light bites and beverages will be available for purchase 4:00–6:00 pm. \nRegister now.
URL:https://www.winterthur.org/calendar/operadelaware-holiday-candlelight-concert/
CATEGORIES:Entertainment,Shows,Yuletide
ATTACH;FMTTYPE=image/jpeg:https://www.winterthur.org/wp-content/uploads/2023.03.22_OperaBalt_LaTraviata-262_PCJoe-del-Tufo-at-Moonloop-Photography-scaled.jpg
END:VEVENT
END:VCALENDAR